BEGIN:VCALENDAR
VERSION:2.0
PRODID:-//Southern Cross - ECPv5.3.2.1//NONSGML v1.0//EN
CALSCALE:GREGORIAN
METHOD:PUBLISH
X-WR-CALNAME:Southern Cross
X-ORIGINAL-URL:https://sc.org.au
X-WR-CALDESC:Events for Southern Cross
BEGIN:VTIMEZONE
TZID:UTC
BEGIN:STANDARD
TZOFFSETFROM:+0000
TZOFFSETTO:+0000
TZNAME:UTC
DTSTART:20200101T000000
END:STANDARD
END:VTIMEZONE
BEGIN:VEVENT
DTSTART;TZID=UTC:20201220T093000
DTEND;TZID=UTC:20201220T113000
DTSTAMP:20210227T015246
CREATED:20160829T221033Z
LAST-MODIFIED:20201217T090758Z
UID:169-1608456600-1608463800@sc.org.au
SUMMARY:2020 Christmas and Carols Celebration
DESCRIPTION:Pellentesque habitant morbi tristique senectus et netus et malesuada fames ac turpis egestas. Aliquam eget rutrum risus. Nullam mauris metus\, porta id arcu quis\, hendrerit tristique ipsum. Pellentesque auctor scelerisque lacus\, quis dictum ex pretium at. Nunc ultricies orci enim\, a efficitur purus ultrices eget. Ut varius bibendum nisi id porttitor. Donec commodo cursus turpis\, vitae luctus tortor fermentum in. Aliquam sodales est vestibulum sapien malesuada tempus. Mauris eget purus id tortor eleifend porta. Proin quis nisl imperdiet\, porta nulla a\, semper ipsum. Nullam interdum elementum ipsum\, non iaculis erat pharetra non. Mauris luctus dolor a risus laoreet fringilla. \nMorbi malesuada dignissim ornare. Nam hendrerit ac mauris sit amet tempus. Vestibulum tincidunt tincidunt enim\, sed mattis risus. Maecenas facilisis\, risus id pharetra elementum\, ipsum augue condimentum nibh\, ut egestas purus justo ut purus. Nullam id urna a massa mattis tincidunt nec vitae lorem. Sed quis elit posuere\, congue diam ac\, varius ex. In in pharetra quam. Ut in feugiat eros. Nullam venenatis hendrerit augue\, quis tempus augue consequat vitae. Cras semper pretium eros nec aliquet.
URL:https://sc.org.au/event/2020christmascarolsservice/
LOCATION:Eltham Community and Reception Centre\, 801 Main Road\, Eltham VIC\, Victoria\, 3095\, Australia
CATEGORIES:All events
ATTACH;FMTTYPE=image/png:https://secureservercdn.net/50.62.88.172/074.fe2.myftpupload.com/wp-content/uploads/2016/08/ChristmasCarols-1.png?time=1614078710
END:VEVENT
END:VCALENDAR