BEGIN:VCALENDAR
VERSION:2.0
PRODID:-//Southern Cross - ECPv5.3.2.1//NONSGML v1.0//EN
CALSCALE:GREGORIAN
METHOD:PUBLISH
X-WR-CALNAME:Southern Cross
X-ORIGINAL-URL:https://sc.org.au
X-WR-CALDESC:Events for Southern Cross
BEGIN:VTIMEZONE
TZID:UTC
BEGIN:STANDARD
TZOFFSETFROM:+0000
TZOFFSETTO:+0000
TZNAME:UTC
DTSTART:20200101T000000
END:STANDARD
END:VTIMEZONE
BEGIN:VEVENT
DTSTART;TZID=UTC:20201220T093000
DTEND;TZID=UTC:20201220T114500
DTSTAMP:20210227T015128
CREATED:20160829T160925Z
LAST-MODIFIED:20201218T104631Z
UID:156-1608456600-1608464700@sc.org.au
SUMMARY:Carols Service and Christmas Celebration
DESCRIPTION:You are warmly invited to join us at Eltham Community and Reception Centre. Sunday 20 December 9:30 am to 11:30 am.
URL:https://sc.org.au/event/carols-service/
LOCATION:Eltham Community and Reception Centre\, 801 Main Road\, Eltham VIC\, Victoria\, 3095\, Australia
CATEGORIES:Upcoming
ATTACH;FMTTYPE=image/png:https://secureservercdn.net/50.62.88.172/074.fe2.myftpupload.com/wp-content/uploads/2016/08/ChristmasCarols-1.png?time=1614078710
ORGANIZER;CN="Pastor%20Shlag":MAILTO:yoursite@info.com
END:VEVENT
END:VCALENDAR