BEGIN:VCALENDAR
VERSION:2.0
PRODID:-//Southern Cross - ECPv5.3.2.1//NONSGML v1.0//EN
CALSCALE:GREGORIAN
METHOD:PUBLISH
X-WR-CALNAME:Southern Cross
X-ORIGINAL-URL:https://sc.org.au
X-WR-CALDESC:Events for Southern Cross
BEGIN:VTIMEZONE
TZID:UTC
BEGIN:STANDARD
TZOFFSETFROM:+0000
TZOFFSETTO:+0000
TZNAME:UTC
DTSTART:20200101T000000
END:STANDARD
END:VTIMEZONE
BEGIN:VEVENT
DTSTART;TZID=UTC:20201117T100000
DTEND;TZID=UTC:20201117T130000
DTSTAMP:20210227T015214
CREATED:20160829T221303Z
LAST-MODIFIED:20201217T092212Z
UID:171-1605607200-1605618000@sc.org.au
SUMMARY:Creativity for a Cause
DESCRIPTION:This is a weekly program that connects people of all ages. A great way to enjoy craft while making an impact into the community.
URL:https://sc.org.au/event/creativity-for-a-cause/
LOCATION:Weir St Montmorency\, 50 Were St\, Montmornecy\, Vic\, 3094
CATEGORIES:All events
ATTACH;FMTTYPE=image/jpeg:https://secureservercdn.net/50.62.88.172/074.fe2.myftpupload.com/wp-content/uploads/2016/08/image-4.jpg?time=1614078710
END:VEVENT
END:VCALENDAR