BEGIN:VCALENDAR
VERSION:2.0
PRODID:-//Southern Cross - ECPv5.3.2.1//NONSGML v1.0//EN
CALSCALE:GREGORIAN
METHOD:PUBLISH
X-WR-CALNAME:Southern Cross
X-ORIGINAL-URL:https://sc.org.au
X-WR-CALDESC:Events for Southern Cross
BEGIN:VTIMEZONE
TZID:UTC
BEGIN:STANDARD
TZOFFSETFROM:+0000
TZOFFSETTO:+0000
TZNAME:UTC
DTSTART:20210101T000000
END:STANDARD
END:VTIMEZONE
BEGIN:VEVENT
DTSTART;TZID=UTC:20210124T103000
DTEND;TZID=UTC:20210124T113000
DTSTAMP:20210227T015254
CREATED:20160829T222021Z
LAST-MODIFIED:20201217T101356Z
UID:173-1611484200-1611487800@sc.org.au
SUMMARY:First Service Back for 2021
DESCRIPTION:We’re looking forward to reconnecting with you in-person on Sunday\, 10:30 am 24 January 2021.
URL:https://sc.org.au/event/first-service-2021/
LOCATION:Eltham Senior Citizens Hall\, Library Pl\,\, Eltham\, Victoria\, 3095
CATEGORIES:All events
END:VEVENT
END:VCALENDAR