BEGIN:VCALENDAR
VERSION:2.0
PRODID:-//Southern Cross - ECPv5.3.2.1//NONSGML v1.0//EN
CALSCALE:GREGORIAN
METHOD:PUBLISH
X-WR-CALNAME:Southern Cross
X-ORIGINAL-URL:https://sc.org.au
X-WR-CALDESC:Events for Southern Cross
BEGIN:VTIMEZONE
TZID:UTC
BEGIN:STANDARD
TZOFFSETFROM:+0000
TZOFFSETTO:+0000
TZNAME:UTC
DTSTART:20200101T000000
END:STANDARD
END:VTIMEZONE
BEGIN:VEVENT
DTSTART;VALUE=DATE:20201117
DTEND;VALUE=DATE:20201118
DTSTAMP:20210227T015205
CREATED:20160829T220612Z
LAST-MODIFIED:20201217T101537Z
UID:165-1605571200-1605657599@sc.org.au
SUMMARY:Juniper and Lamplight Community Space
DESCRIPTION:Drop-in any Thursday to see Sally Agostino. You’re welcome for a chat or to ask your questions. Stay tuned for more information in the coming months for some great events and opportunities to connect.
URL:https://sc.org.au/event/juniper-and-lamp-light-community-space/
LOCATION:Juniper and Lamplight\, 46 Were St\, Montmornecy\, Vic\, 3094
CATEGORIES:All events
ATTACH;FMTTYPE=image/jpeg:https://secureservercdn.net/50.62.88.172/074.fe2.myftpupload.com/wp-content/uploads/2016/08/image-7.jpg?time=1614078710
END:VEVENT
END:VCALENDAR