BEGIN:VCALENDAR
VERSION:2.0
PRODID:-//Southern Cross - ECPv5.3.2.1//NONSGML v1.0//EN
CALSCALE:GREGORIAN
METHOD:PUBLISH
X-WR-CALNAME:Southern Cross
X-ORIGINAL-URL:https://sc.org.au
X-WR-CALDESC:Events for Southern Cross
BEGIN:VTIMEZONE
TZID:UTC
BEGIN:STANDARD
TZOFFSETFROM:+0000
TZOFFSETTO:+0000
TZNAME:UTC
DTSTART:20230101T000000
END:STANDARD
END:VTIMEZONE
BEGIN:VEVENT
DTSTART;TZID=UTC:20231001T110000
DTEND;TZID=UTC:20231001T140000
DTSTAMP:20210227T014119
CREATED:20160829T163152Z
LAST-MODIFIED:20201217T101656Z
UID:161-1696158000-1696168800@sc.org.au
SUMMARY:A Month of Prayers for You
DESCRIPTION:Stay tuned for more information early in 2021.
URL:https://sc.org.au/event/a-month-of-prayers-for-your-church/
LOCATION:Eltham Community and Reception Centre\, 801 Main Road\, Eltham VIC\, Victoria\, 3095\, Australia
CATEGORIES:Upcoming
ATTACH;FMTTYPE=image/jpeg:https://secureservercdn.net/50.62.88.172/074.fe2.myftpupload.com/wp-content/uploads/2020/12/PrayerBanner-scaled.jpg?time=1614078710
ORGANIZER;CN="Pastor%20Shlag":MAILTO:yoursite@info.com
END:VEVENT
END:VCALENDAR